Workbook

Sheet Phụ biểu số 01
A1: UBND XÃ QUANG HƯNG | C1: Phụ biểu số 01
A2: PHÒNG KINH TẾ
A3: CÂN ĐỐI NGÂN SÁCH XÃ NĂM 2026
A4: =+'Phụ biểu số 02'!A4 -> (Kèm theo Tờ trình số 293/TTr-KT ngày 24/9/2026 của phòng Kinh tế xã)
C5: Đơn vị tính: Triệu đồng
A6: Nội dung thu | B6: Dự toán | C6: Nội dung chi | D6: Dự toán
A7: Tổng số thu | B7: =B8++B9+B10+B14 -> 455172 | C7: Tổng số chi | D7: =+D8+D9+D10+D11+D13 -> 455172
A8: I. Các khoản thu xã hưởng 100% | B8: =+'Phụ biểu số 02'!F12 -> 3965 | C8: I. Chi đầu tư phát triển | D8: =+'Phụ biểu số 03'!D8 -> 195547
A9: II. Các khoản thu phân chia theo tỷ lệ | B9: =+'Phụ biểu số 02'!F32 -> 205017 | C9: II. Chi thường xuyên | D9: =+'Phụ biểu số 03'!E9-'Phụ biểu số 03'!E23 -> 195034
A10: III.Thu bổ sung | B10: =+SUM(B11:B13) -> 246190 | C10: III. Dự phòng | D10: =+'Phụ biểu số 03'!E23 -> 7174
A11: - Thu bổ sung cân đối ngân sách | B11: =+'Phụ biểu số 02'!F42 -> 188773 | C11: IV. Chi từ nguồn bổ sung có mục tiêu từ ngân sách cấp tỉnh (Kinh phí thực hiện chính sách, chế độ ưu đãi người có công với cách mạng) | D11: =+B12 -> 29954
A12: - Thu từ nguồn bổ sung có mục tiêu từ ngân sách cấp tỉnh (Kinh phí thực hiện chính sách, chế độ ưu đãi người có công với cách mạng) | B12: =+'Phụ biểu số 02'!F44 -> 29954
A13: - Thu từ nguồn bổ sung có mục tiêu từ nguồn CCTL để thực hiện chính sách an sinh xã hội | B13: =+'Phụ biểu số 02'!F47 -> 27463 | C13: V. Chi từ nguồn bổ sung có mục tiêu từ nguồn CCTL để thực hiện chính sách an sinh xã hội | D13: =+B13 -> 27463
A14: IV. Thu chuyển nguồn

Sheet Phụ biểu số 02
A1: UBND XÃ QUANG HƯNG | E1: Phụ biểu số 02
A2: PHÒNG KINH TẾ
A3: DỰ TOÁN THU NGÂN SÁCH NHÀ NƯỚC NĂM 2026
A4: (Kèm theo Tờ trình số 293/TTr-KT ngày 24/9/2026 của phòng Kinh tế xã)
E5: Đơn vị tính: Triệu đồng
A6: STT | B6: Chỉ tiêu | C6: Dự toán năm 2026
C7: Theo Nghị quyết, Quyết định của HĐND, UBND tỉnh | E7: UBND xã trình HĐND xã giao
C8: Thu NSNN | D8: Thu NSĐP được hưởng theo phân cấp | E8: Thu NSNN | F8: Thu NSĐP được hưởng theo phân cấp
B9: TỔNG THU (A+B+C+D) | C9: =+C10+C44+C47 -> 504155 | D9: =+D10+D44+D47 -> 870806 | E9: =+E10+E44+E47 -> 416025 | F9: =+F10+F44+F47 -> 455172
B10: TỔNG THU NSNN TRÊN ĐỊA BÀN (A+B) | C10: =+C11+C41 -> 446738 | D10: =+D11+D41 -> 813389 | E10: =+E11+E41 -> 358608 | F10: =+F11+F41 -> 397755
A11: A | B11: TỔNG CÁC KHOẢN THU NỘI ĐỊA | C11: =+C12+C32 -> 257965 | D11: =+D12+D32 -> 624616 | E11: =+E12+E32 -> 169835 | F11: =+F12+F32 -> 208982
A12: I | B12: Các khoản thu 100% | C12: =+C13+C16+C17+C20+C21+C22+C25+C26+C30+C31 -> 3965 | D12: =+D13+D16+D17+D20+D21+D22+D25+D26+D30+D31 -> 3965 | E12: =+E13+E16+E17+E20+E21+E22+E25+E26+E30+E31 -> 3965 | F12: =+F13+F16+F17+F20+F21+F22+F25+F26+F30+F31 -> 3965
A13: 1 | B13: Phí, lệ phí | C13: =+SUM(C14:C15) -> 150 | D13: =+SUM(D14:D15) -> 150 | E13: =+SUM(E14:E15) -> 150 | F13: =+SUM(F14:F15) -> 150
B14: - Trung ương
B15: - Địa phương | C15: 150 | D15: 150 | E15: 150 | F15: 150
A16: 2 | B16: Thuế tài nguyên
A17: 3 | B17: Thu hoa lợi công sản tại xã | C17: =+SUM(C18:C19) -> 360 | D17: =+SUM(D18:D19) -> 360 | E17: =+SUM(E18:E19) -> 360 | F17: =+SUM(F18:F19) -> 360
B18: Trong đó: Thu HLCS | C18: 360 | D18: 360 | E18: 360 | F18: 360
B19: Trong đó: Hỗ trợ khi NN thu hồi đất
A20: 4 | B20: Các khoản huy động không hoàn trả và đóng góp
A21: 5 | B21: Thuế sử dụng đất phi nông nghiệp | C21: 600 | D21: 600 | E21: 600 | F21: 600
A22: 6 | B22: Thu khác ngân sách | C22: =+SUM(C23:C24) -> 55 | D22: =+SUM(D23:D24) -> 55 | E22: =+SUM(E23:E24) -> 55 | F22: =+SUM(F23:F24) -> 55
B23: - Ngân sách trung ương+ tỉnh
B24: - Ngân sách xã | C24: 55 | D24: 55 | E24: 55 | F24: 55
A25: 7 | B25: Tiền thuê mặt đất, mặt nước
A26: 8 | B26: Thuế thu nhập doanh nghiệp+GTGT | C26: =+SUM(C27:C29) -> 2800 | D26: =+SUM(D27:D29) -> 2800 | E26: =+SUM(E27:E29) -> 2800 | F26: =+SUM(F27:F29) -> 2800
B27: - Thuế GTGT+TNDN
B28: - Thuế GTGT từ cá nhân, hộ kinh doanh | C28: 2800 | D28: 2800 | E28: 2800 | F28: 2800
B29: - Thuế TTĐB
A30: 9 | B30: Thu kết dư
A31: 10 | B31: Thu chuyển nguồn
A32: II | B32: Các khoản thu phân chia theo tỷ lệ (%) | C32: =+C33+C37+C40 -> 254000 | D32: =+D33+D37+D40 -> 620651 | E32: =+E33+E37+E40 -> 165870 | F32: =+F33+F37+F40 -> 205017
A33: 9 | B33: Thuế thu nhập cá nhân | C33: =+SUM(C34:C36) -> 9500 | D33: =+SUM(D34:D36) -> 9500 | E33: =+SUM(E34:E36) -> 3020 | F33: =+SUM(F34:F36) -> 3020
B34: - Từ tiền lương, tiền công và CN vốn
B35: - Từ hộ kinh doanh cá thể | C35: 1400 | D35: 1400 | E35: =+C35*100% -> 1400 | F35: =+D35*100% -> 1400
B36: - Từ chuyển nhượng bất động sản | C36: 8100 | D36: 8100 | E36: =+ROUND((C36*20%),0) -> 1620 | F36: =+ROUND((D36*20%),0) -> 1620
A37: 10 | B37: Lệ phí trước bạ | C37: =+SUM(C38:C39) -> 14500 | D37: =+SUM(D38:D39) -> 14500 | E37: =+SUM(E38:E39) -> 6450 | F37: =+SUM(F38:F39) -> 6450
B38: - Lệ phí trước bạ nhà đất | C38: 7000 | D38: 7000 | E38: =+C38*60% -> 4200 | F38: =+E38 -> 4200
B39: - Lệ phí trước bạ ô tô, xe máy, tài sản khác | C39: 7500 | D39: 7500 | E39: =+C39*30% -> 2250 | F39: =+E39 -> 2250
A40: 12 | B40: Tiền sử dụng đất | C40: 230000 | D40: 596651 | E40: 156400 | F40: =503354-307807 -> 195547
A41: B | B41: THU BỔ SUNG TỪ NS CẤP TRÊN | C41: =SUM(C42:C43) -> 188773 | D41: =SUM(D42:D43) -> 188773 | E41: =SUM(E42:E43) -> 188773 | F41: =SUM(F42:F43) -> 188773
A42: 1 | B42: Thu bổ sung cân đối | C42: 188773 | D42: =+C42 -> 188773 | E42: =+C42 -> 188773 | F42: =+C42 -> 188773
A43: 2 | B43: Thu bổ sung có mục tiêu
A44: C | B44: THU TỪ NGUỒN BỔ SUNG CÓ MỤC TIÊU TỪ NGÂN SÁCH CẤP TỈNH (Kinh phí thực hiện chính sách, chế độ ưu đãi người có công với cách mạng) | C44: =+SUM(C45:C46) -> 29954 | D44: =+SUM(D45:D46) -> 29954 | E44: =+SUM(E45:E46) -> 29954 | F44: =+SUM(F45:F46) -> 29954
B45: Chi trợ cấp ưu đãi theo Pháp lệnh người có công với cách mạng và Pháp lệnh Bà mẹ Việt Nam anh hùng gồm: Chi trợ cấp, phụ cấp thường xuyên và trợ cấp một lần; Chi cấp phương tiện trợ giúp, dụng cụ chỉnh hình, phương tiện, thiết bị phục hồi chức năng; điều trị điều dưỡng | C45: 28130 | D45: 28130 | E45: 28130 | F45: 28130
B46: Kinh phí đóng bảo hiểm y tế cho người có công, thân nhân người có công với Cách mạng, người phục vụ người có công với Cách mạng do ngân sách nhà nước đảm bảo | C46: 1824 | D46: 1824 | E46: 1824 | F46: 1824
A47: D | B47: THU TỪ NGUỒN BỔ SUNG CÓ MỤC TIÊU TỪ NGUỒN CCTL ĐỂ THỰC HIỆN CHÍNH SÁCH AN SINH XÃ HỘI (**) | C47: 27463 | D47: =+C47 -> 27463 | E47: =+C47 -> 27463 | F47: =+C47 -> 27463

Sheet Phụ biểu số 03
A1: UBND XÃ QUANG HƯNG | D1: Phụ biểu số 03
A2: PHÒNG KINH TẾ
A3: DỰ TOÁN CHI NGÂN SÁCH XÃ NĂM 2026
A4: =+'Phụ biểu số 01'!A4 -> (Kèm theo Tờ trình số 293/TTr-KT ngày 24/9/2026 của phòng Kinh tế xã)
F5: Đơn vị tính: Triệu đồng
A6: TT | B6: Nội dung | C6: Dự toán năm 2026 | F6: Ghi chú
C7: Tổng số | D7: Đầu tư phát triển | E7: Thường xuyên
B8: TỔNG CỘNG | C8: =+D8+E8 -> 455172 | D8: 195547 | E8: =+E9+E24+E25 -> 259625
A9: I | B9: Chi cân đối ngân sách | C9: =+SUM(C10:C23) -> 202208 | D9: =+SUM(D10:D23) -> 0 | E9: =+SUM(E10:E23) -> 202208
A10: 1 | B10: Chi Quốc phòng | C10: =+D10+E10 -> 1308 | E10: 1308
A11: 2 | B11: Chi An ninh và trật tự an toàn xã hội | C11: =+D11+E11 -> 357 | E11: 357
A12: 3 | B12: Chi bảo đảm xã hội | C12: =+D12+E12 -> 10784 | E12: 10784
A13: 4 | B13: Sự nghiệp giáo dục và đào tạo | C13: =+D13+E13 -> 105562 | E13: 105562
A14: 5 | B14: Chi khoa học, công nghệ, đổi mới sáng tạo và chuyển đổi số | C14: =+D14+E14 -> 3325 | E14: 3325
A15: 6 | B15: Chi y tế, dân số và gia đình | C15: =+D15+E15 -> 14267 | E15: 14267
A16: 7 | B16: Chi văn hóa, thông tin, phát thanh truyền hình | C16: =+D16+E16 -> 2098 | E16: 2098
A17: 8 | B17: Chi thể dục thể thao | C17: =+D17+E17 -> 400 | E17: 400
A18: 9 | B18: Chi bảo vệ môi trường | C18: =+D18+E18 -> 3709 | E18: 3709
A19: 10 | B19: Chi hoạt động kinh tế | C19: =+D19+E19 -> 17764 | E19: 17764
A20: 11 | B20: Chi hoạt động của cơ quan quản lý nhà nước, đảng, đoàn thể | C20: =+D20+E20 -> 33506 | E20: 33506
A21: 12 | B21: Chi khen thưởng | C21: =+D21+E21 -> 977 | E21: 977
... A23: 14 | B23: Dự phòng ngân sách | C23: =+D23+E23 -> 7174 | E23: 7174
A24: II | B24: Chi từ bổ sung có mục tiêu từ ngân sách tỉnh (Kinh phí thực hiện chính sách, chế độ ưu đãi người có công với cách mạng) | C24: =+D24+E24 -> 29954 | E24: 29954
A25: III | B25: Chi từ bổ sung có mục tiêu từ nguồn CCTL để thực hiện chính sách an sinh xã hội | C25: =+D25+E25 -> 27463 | E25: 27463
C26: ,

Sheet Phụ biểu 4
A1: UBND XÃ QUANG HƯNG | C1: Phụ biểu số 04
A2: PHÒNG KINH TẾ
A3: TỔNG NGUỒN VỐN THỰC HIỆN KẾ HOẠCH VỐN ĐẦU TƯ CÔNG NĂM 2026
A4: =+'Phụ biểu số 01'!A4 -> (Kèm theo Tờ trình số 293/TTr-KT ngày 24/9/2026 của phòng Kinh tế xã)
D5: Đơn vị tính: Triệu đồng
A6: TT | B6: Nội dung | C6: Số tiền | D6: Ghi chú
B8: TỔNG CỘNG | C8: =+C9+C10 -> 264093
A9: 1 | B9: Nguồn kết dư ngân sách năm 2025 từ tiền sử dụng đất đã được HĐND xã phê chuẩn tại Nghị quyết số 11/NQ-HĐND ngày 27/3/2026 đã được hạch toán vào thu ngân sách nhà nước năm 2026 theo quy định | C9: 68546
A10: 2 | B10: Dự kiến nguồn thu tiền sử dụng đất từ đấu giá quyền sử dụng đất năm 2026 (dự toán chi đầu tư) | C10: 195547
A11: (Có danh mục công trình chi tiết kèm theo)

Sheet Phụ biểu số 05
A1: =+'Phụ biểu 4'!A1 -> UBND XÃ QUANG HƯNG | P1: Phụ biểu số 05
A2: =+'Phụ biểu 4'!A2 -> PHÒNG KINH TẾ
A3: BỔ SUNG DANH MỤC, ĐIỀU CHỈNH KẾ HOẠCH VỐN ĐẦU TƯ CÔNG NĂM 2026
A4: =+'Phụ biểu số 01'!A4 -> (Kèm theo Tờ trình số 293/TTr-KT ngày 24/9/2026 của phòng Kinh tế xã)
A5: (Kèm theo Nghị quyết số 21/NQ-HĐND ngày 114/9/2026 của HĐND xã Quang Hưng)
P6: Đơn vị tính: Triệu đồng
A7: TT | B7: Tên công trình | C7: Quyết định đầu tư/Tổng mức đầu tư/ Tổng mức đầu tư điều chỉnh cuối cùng | F7: Kế hoạch vốn năm 2026 được giao tại Nghị quyết số 23/NQ-HĐND ngày 17/12/2025 của HĐND xã | J7: Kế hoạch vốn năm 2026 tại Nghị quyết số 17/NQ-HĐND ngày 26/6/2026 của HĐND xã Quang Hưng | M7: Bổ sung danh mục, điều chỉnh kế hoạch vốn năm 2026 (lần 2) | P7: Kế hoạch vốn năm 2026 sau điều chỉnh | S7: Ghi chú
C8: Số QĐ, ngày tháng năm phê duyệt | D8: Tổng mức đầu tư | E8: Trong đó: Ngân sách xã | F8: Tổng số vốn | H8: Chi theo nguồn vốn | J8: Tổng số vốn | K8: Nguồn cân đối ngân sách | L8: Nguồn đóng góp | M8: Bổ sung kế hoạch vốn | N8: Điều chỉnh tăng | O8: Điều chỉnh giảm | P8: Tổng số vốn | Q8: Nguồn cân đối ngân sách | R8: Nguồn đóng góp
H9: Nguồn cân đối ngân sách | I9: Nguồn đóng góp
A10: 1 | B10: 2 | C10: 3 | D10: 4 | E10: 5 | F10: 6 | G10: 9 | H10: 7 | I10: 8 | J10: 12 | K10: 13 | L10: 14 | M10: 10 | O10: 11 | P10: 12 | Q10: 13 | R10: 14
B11: TỔNG SỐ | D11: =D12+D35+D52+D90 -> 852006.27 | E11: =E12+E35+E52+E90 -> 719114.52 | F11: =F12+F35+F52+F90 -> 258337.17 | G11: =G12+G35+G52+G90 -> 0 | H11: =H12+H35+H52+H90 -> 254836 | I11: =I12+I35+I52+I90 -> 0 | J11: =J12+J35+J52+J90 -> 503354 | K11: =K12+K35+K52+K90 -> 503354 | ... Q11: =Q12+Q35+Q52+Q90 -> 264093 | R11: 0
A12: A | B12: CÔNG TRÌNH HOÀN THÀNH, CHUYỂN TIẾP | D12: =D13+D15+D17 -> 436033.41 | E12: =E13+E15+E17 -> 402533.41 | F12: =F13+F15+F17 -> 218250.34 | G12: =G13+G15+G17 -> 0 | H12: =H13+H15+H17 -> 218250 | I12: =I13+I15+I17 -> 0 | J12: =J13+J15+J17 -> 255755 | K12: =K13+K15+K17 -> 255755 | ... Q12: =Q13+Q15+Q17 -> 187657
A13: I | B13: Lĩnh vực an ninh - trật tự | D13: 13900 | E13: 10400 | F13: 3227.411 | G13: 0 | H13: =H14 -> 3227 | I13: =I14 -> 0 | J13: =J14 -> 6591 | K13: =K14 -> 6591 | L13: =L14 -> 0 | M13: =M14 -> 0 | N13: =N14 -> 0 | O13: =O14 -> 1264 | ... Q13: =Q14 -> 5327
A14: 1 | B14: Xây dựng Trụ sở làm việc công an xã Tống Phan, huyện Phù Cừ | C14: Số 140/QĐ-UBND ngày 23/10/2024 | D14: 13900 | E14: 10400 | F14: 3227.411 | H14: 3227 | J14: =K14 -> 6591 | K14: 6591 | O14: =K14-P14 -> 1264 | P14: 5327 | Q14: =P14 -> 5327
A15: II | B15: Lĩnh vực giáo dục đào tạo | D15: 95852.474 | E15: 65852.474 | F15: 17480.564 | G15: 0 | H15: =H16 -> 17481 | I15: =I16 -> 0 | J15: =J16 -> 0 | K15: =K16 -> 0 | L15: =L16 -> 0 | M15: =M16 -> 0 | O15: =O16 -> 0 | P15: =P16 -> 0 | Q15: =Q16 -> 0
A16: 1 | B16: Xây mới trường mầm non tập trung và các hạng mục phụ trợ trường mầm non Tống Phan | C16: Số 228/QĐ-UBND ngày 20/12/2021 | D16: 95852.474 | E16: 65852.474 | F16: 17480.564 | H16: 17481 | J16: 0 | K16: 0 | P16: 0 | Q16: 0
A17: III | B17: Các hoạt động kinh tế | D17: =D18+D29 -> 326280.94 | E17: =E18+E29 -> 326280.94 | F17: =F18+F29 -> 197542.36 | G17: =G18+G29 -> 0 | H17: =H18+H29 -> 197542 | I17: =I18+I29 -> 0 | J17: =J18+J29 -> 249164 | K17: =K18+K29 -> 249164 | ... Q17: =Q18+Q29 -> 182330
B18: Giao thông | D18: =SUM(D19:D28) -> 121486.89 | E18: =SUM(E19:E28) -> 121486.89 | F18: =SUM(F19:F28) -> 86573 | G18: =SUM(G19:G28) -> 0 | H18: =SUM(H19:H28) -> 86573 | I18: =SUM(I19:I28) -> 0 | J18: =SUM(J19:J28) -> 87411 | K18: =SUM(K19:K28) -> 87411 | ... Q18: =SUM(Q19:Q28) -> 34963
A19: 1 | B19: Cải tạo, nâng cấp 05 tuyến đường xã Tống Phan, huyện Phù Cừ | C19: Số 193/QĐ-UBND ngày 16/01/2026 | D19: 17076.595 | E19: 17076.595 | F19: =H19 -> 7524 | H19: 7524 | J19: 7524 | K19: =J19 -> 7524 | N19: 4517 | P19: =K19+N19 -> 12041 | Q19: =P19 -> 12041
A20: 2 | B20: Cải tạo, nâng cấp tuyến đường trục xã Tống Phan, huyện Phù Cừ nối ĐH.87 với ĐH.64 | C20: Số 88a/QĐ-UBND ngày 06/3/2025 | D20: 32695.909 | E20: 32695.909 | F20: =H20 -> 22250 | H20: 22250 | J20: 22250 | K20: =J20 -> 22250 | O20: =K20-P20 -> 3548 | P20: 18702 | Q20: 18702
A21: 3 | B21: Sửa chữa đường giao thông nội đồng đoạn từ cầu Cốc đến khu chuyển đổi nhà ông Ngân thôn Thọ Lão, xã Tống Phan | C21: Số 171/QĐ-UBND ngày 21/4/2025 | D21: 2148.447 | E21: 2148.447 | F21: =H21 -> 299 | H21: 299 | J21: 299 | K21: =J21 -> 299 | P21: 299 | Q21: 299
A22: 4 | B22: Sửa chữa đường giao thông nội đồng đoạn từ cống trên đồng xóm Xối đến cống đồng Bia xóm Đọ thôn Cát Dương, xã Tống Phan | C22: Số 184/QĐ-UBND ngày 28/4/2025 | D22: 1600 | E22: 1600 | F22: =H22 -> 700 | H22: 700 | J22: 0 | K22: =J22 -> 0 | P22: 0 | Q22: =P22 -> 0
A23: 4 | B23: Sửa chữa đường GTNT xã Tống Phan (Đoạn 1: từ giếng làng đến đường công nghiệp thôn Cát Dương và đoạn 2: từ đường công nghiệp đến đồng Ải thôn Tống Xá) | C23: Số 1188/QĐ-UBND ngày 13/11/2025 | D23: 3397.31 | E23: 3397.31 | F23: =H23 -> 2800 | H23: 2800 | J23: 2698 | K23: =J23 -> 2698 | O23: =K23-P23 -> 230 | P23: 2468 | Q23: 2468
A24: 5 | B24: Cải tạo, nâng cấp đường GTNT xã Quang Hưng (Thôn Thọ Lão, Thôn Ngũ Lão) | C24: Số 323/QĐ-UBND ngày 27/6/2025 | D24: 34817.75 | E24: 34817.75 | F24: 34000 | H24: 34000 | J24: 34000 | K24: =J24 -> 34000 | O24: =K24 -> 34000 | P24: 0 | Q24: 0
A25: 6 | B25: Cải tạo, nâng cấp đường GTNT xã Quang Hưng (Thôn Thọ Lão, thôn Viên Quang) | C25: Số 324/QĐ-UBND ngày 27/6/2025 | D25: 19362.363 | E25: 19362.363 | F25: 19000 | H25: 19000 | J25: 19000 | K25: =J25 -> 19000 | O25: =K25 -> 19000 | P25: 0 | Q25: 0
A26: 7 | B26: Sửa chữa đường nội đồng thôn Cát Dương, xã Tống Phan (Đoạn từ nhà bà Mát đến khu dân cư xã Tống Phan giáp Nghĩa trang Liệt sỹ huyện Phù Cừ) | C26: Số 163/QĐ-UBND ngày 18/4/2025 | D26: 2318.306 | E26: 2318.306 | J26: 20 | K26: =J26 -> 20 | O26: 8 | P26: 12 | Q26: =P26 -> 12
A27: 8 | B27: Sửa chữa đường GTNT thôn Cát Dương, xã Tống Phan (Đoạn từ nhà ông Hạnh đến nghĩa trang Vượt Cát) | C27: Số 164/QĐ-UBND ngày 18/4/2025 | D27: 2136.635 | E27: 2136.635 | J27: 20 | K27: =J27 -> 20 | O27: 8 | P27: 12 | Q27: =P27 -> 12
A28: 9 | B28: Cải tạo, nâng cấp đường GTNT xã Tống Phan (Đoạn 1: Từ ngã tư ông Tam đến đầu cầu Cốc; Đoạn 2: Từ nhà ông Dầu đến nhà ông Xòi) | C28: Số 180/QĐ-UBND ngày 23/4/2025 | D28: 5933.574 | E28: 5933.574 | J28: 1600 | K28: =J28 -> 1600 | O28: =K28-P28 -> 171 | P28: 1429 | Q28: =P28 -> 1429
B29: Hạ tầng kỹ thuật, kiến thiết thị chính | D29: =SUM(D30:D34) -> 204794.05 | E29: =SUM(E30:E34) -> 204794.05 | F29: =SUM(F30:F34) -> 110969.36 | G29: =SUM(G30:G34) -> 0 | H29: =SUM(H30:H34) -> 110969 | I29: =SUM(I30:I34) -> 0 | J29: =SUM(J30:J34) -> 161753 | K29: =SUM(K30:K34) -> 161753 | ... Q29: =SUM(Q30:Q34) -> 147367
A30: 1 | B30: Hạ tầng kỹ thuật khu dân cư mới xã Quang Hưng giai đoạn 3 | C30: Số 54/QĐ-UBND ngày 18/4/2023 | D30: 59900 | E30: 59900 | F30: 56550 | H30: 56550 | J30: 56550 | K30: =J30 -> 56550 | O30: =K30-P30 -> 10403 | P30: 46147 | Q30: 46147
A31: 2 | B31: Hạ tầng kỹ thuật khu dân cư số 5 xã Minh Tân, huyện Phù Cừ | C31: Số 199/QĐ-UBND ngày 28/12/2022 | D31: 59900 | E31: 59900 | F31: 43611.189 | H31: 43611 | J31: 43611 | K31: =J31 -> 43611 | O31: =K31-P31 -> 2939 | P31: 40672 | Q31: 40672
A32: 3 | B32: Hạ tầng kỹ thuật khu dân cư số 5 xã Minh Tân, huyện Phù Cừ - Hạng mục cấp điện sinh hoạt, điện chiếu sáng | C32: Số 130a/QĐ-UBND ngày 20/4/2025 | D32: 10808.173 | E32: 10808.173 | F32: 10808.173 | H32: 10808 | J32: 10808 | K32: =J32 -> 10808 | O32: =K32-P32 -> 1044 | P32: =Q32 -> 9764 | Q32: 9764
A33: 4 | B33: Xây dựng hạ tầng kỹ thuật để đấu giá quyền sử dụng đất cho nhân dân làm nhà ở tạo vốn xây dựng đô thị tại thị trấn Trần Cao, huyện Phù Cừ | C33: Số 1469/QĐ-UBND ngày 30/12/2025 | D33: 72000 | E33: 72000 | J33: 50400 | K33: =J33 -> 50400 | O33: =K33-P33 -> 0 | P33: =K33 -> 50400 | Q33: =K33 -> 50400
A34: 5 | B34: Xây dựng đường điện chiếu sáng đô thị xã Tống Phan Từ quỹ tín dụng đến NVH thôn Hạ Cát và từ nhà ông Đỏ đến K41 và đường điện 0.4Kv cấp điện trường Mầm non xã Tống Phan | C34: Số 110/QĐ-UBND ngày 20/3/2025 | D34: 2185.874 | E34: 2185.874 | J34: 384 | K34: =J34 -> 384 | O34: =K34-P34 -> 0 | P34: 384 | Q34: =P34 -> 384
A35: B | B35: Chương trình MTQG xây dựng nông thôn mới | D35: =D36+D38 -> 145050.76 | E35: =E36+E38 -> 49159 | F35: =F36+F38 -> 36586.838 | G35: =G36+G38 -> 0 | H35: =H36+H38 -> 36586 | I35: =I36+I38 -> 0 | J35: =J36+J38 -> 37979 | K35: =K36+K38 -> 37979 | ... M35: =M36+M38 -> 0 | O35: =O36+O38 -> 16662 | P35: =P36+P38 -> 21317 | Q35: =Q36+Q38 -> 21317
A36: I | B36: Dự án hoàn thành | D36: 13500 | E36: 7500 | F36: 0 | G36: 0 | H36: =H37 -> 0 | I36: =I37 -> 0 | J36: =J37 -> 465 | K36: =K37 -> 465 | M36: =M37 -> 0 | O36: =O37 -> 0 | P36: =P37 -> 465 | Q36: =Q37 -> 465
A37: 1 | B37: Xây dựng đường GTNT xã Quang Hưng (đoạn quanh ao đình Quang Xá) | C37: Số 118/QĐ-UBND ngày 12/4/2024 | D37: 13500 | E37: 7500 | J37: 465 | K37: 465 | M37: 0 | P37: 465 | Q37: 465
A38: II | B38: Dự án chuyển tiếp | D38: =SUM(D39:D51) -> 131550.76 | E38: =SUM(E39:E51) -> 41659 | F38: =SUM(F39:F51) -> 36586.838 | G38: =SUM(G39:G51) -> 0 | H38: =SUM(H39:H51) -> 36586 | I38: =SUM(I39:I51) -> 0 | J38: =SUM(J39:J51) -> 37514 | K38: =SUM(K39:K51) -> 37514 | ... M38: =SUM(M39:M51) -> 0 | O38: =SUM(O39:O51) -> 16662 | P38: =SUM(P39:P51) -> 20852 | Q38: =SUM(Q39:Q51) -> 20852
A39: 1 | B39: Cải tạo, nâng cấp một số tuyến đường GTNT thôn Duyệt Văn và thôn Duyệt Lễ, xã Minh Tân | C39: Số 1379/QĐ-UBND ngày 08/5/2025 | D39: 8175.171 | E39: 1785 | F39: 1785.171 | H39: 1785 | J39: 1785 | K39: =J39 -> 1785 | O39: =K39-P39 -> 1165 | P39: 620 | Q39: =P39 -> 620
A40: 2 | B40: Cải tạo, nâng cấp đường GTNT xã Minh Tân (đoạn từ ĐT.386 đến trạm bơm Vực Bùi) | C40: Số 1196/QĐ-UBND ngày 18/11/2025 | D40: 13000 | E40: 3000 | F40: 3000 | H40: 3000 | J40: 3000 | K40: =J40 -> 3000 | O40: =K40-P40 -> 2320 | P40: 680 | Q40: =P40 -> 680
A41: 3 | B41: Cải tạo, nâng cấp đường GTNT thôn Nghĩa Vũ, xã Minh Tân (Từ trạm bơm Nghĩa An đến ruộng ông Đoàn) | C41: Số 1444/QĐ-UBND ngày 09/5/2025 | D41: 23994.464 | E41: 11994 | F41: 11994.464 | H41: 11994 | J41: 11994 | K41: =J41 -> 11994 | O41: =K41-P41 -> 8821 | P41: 3173 | Q41: =P41 -> 3173
A42: 4 | B42: Cải tạo, nâng cấp đường GTNT xã Quang Hưng (Đoạn 1: từ nhà văn hóa thôn Thọ Lão đến nhà ông Tư; Đoạn 2: từ nhà bà Viết đến đình Thọ Lão; Đoạn 3: từ nhà ông Hiếu đến nhà ông Anh) | C42: Số 1195/QĐ-UBND ngày 18/11/2025 | D42: 13989.759 | E42: 1990 | F42: 1989.759 | H42: 1990 | J42: 1990 | K42: =J42 -> 1990 | O42: =K42-P42 -> 455 | P42: 1535 | Q42: =P42 -> 1535
A43: 5 | B43: Cải tạo, nâng cấp đường GTNT xã Quang Hưng (Đoạn từ nhà ông Hùng đi bãi rác Thọ Lão và đoạn từ đường mới Quang Hưng đi Đồng Tống) | C43: Số 1381/QĐ-UBND ngày 08/5/2025 | D43: 19138.298 | E43: 4138 | F43: 4138.298 | H43: 4138 | J43: 4138 | K43: =J43 -> 4138 | O43: =K43-P43 -> 627 | P43: 3511 | Q43: =P43 -> 3511
A44: 6 | B44: Cải tạo, nâng cấp đường GTNT xã Quang Hưng (Đoạn từ ĐH.64 đi trạm bơm Thọ Lão và đoạn ĐH.64 đi nhà ông Khanh) | C44: Số 1383/QĐ-UBND ngày 08/5/2025 | D44: 14490 | E44: 4490 | F44: 4490 | H44: 4490 | J44: 4490 | K44: =J44 -> 4490 | O44: =K44-P44 -> 1044 | P44: 3446 | Q44: =P44 -> 3446
A45: 7 | B45: Cải tạo, nâng cấp đường GTNT xã Quang Hưng (Đoạn quanh Ao đình Phú Mỹ) | C45: Số 1424/QĐ-UBND ngày 08/5/2025 | D45: 5366.384 | E45: 866 | F45: 866.384 | H45: 866 | J45: 866 | K45: =J45 -> 866 | O45: =K45-P45 -> 247 | P45: 619 | Q45: =P45 -> 619
A46: 8 | B46: Cải tạo, nâng cấp đường GTNT thôn Quang Xá, xã Quang Hưng (Đoạn 1: Từ nhà ông Liễu đến nhà bà Hiền; Đoạn 2: Từ nhà bà Côn đến nhà ông Ngã; Đoạn 3: Từ nhà ông Kiên đến nhà ông Quán; Đoạn 4: Từ nhà bà Chi đến nhà ông Khương đi QL.38B) | C46: Số 1425/QĐ-UBND ngày 08/5/2025 | D46: 8000 | E46: 3000 | F46: 3000 | H46: 3000 | J46: 3000 | K46: =J46 -> 3000 | O46: =K46-P46 -> 245 | P46: 2755 | Q46: 2755
A47: 9 | B47: Cải tạo, nâng cấp đường GTNT thôn Viên Quang, xã Quang Hưng (Đoạn 1: từ nhà ông Thập đến cống Khum đường mới; Đoạn 2: từ cống Khum đến nhà ông Sưởng) | C47: Số 1438/QĐ-UBND ngày 08/5/2025 | D47: 4500 | E47: 1500 | F47: 1500 | H47: 1500 | J47: 1500 | K47: =J47 -> 1500 | O47: =K47-P47 -> 322 | P47: 1178 | Q47: =P47 -> 1178
A48: 10 | B48: Cải tạo, nâng cấp đường GTNT xã Minh Tân (Đoạn từ nhà ông Toản đến nhà ông Hùng thôn Duyệt Lễ) | C48: Số 191/QĐ-UBND ngày 20/01/2025 | D48: 2200 | E48: 200 | F48: 200 | H48: 200 | J48: 200 | K48: =J48 -> 200 | O48: =K48-P48 -> 200 | P48: 0 | Q48: 0
A49: 11 | B49: Cải tạo, nâng cấp đường giao thông xã Tống Phan(Đoạn 1: Từ nhà ông Qùy đến ao Đình Vũ Xá, thôn Vũ Xá; Đoạn 2: Từ nhà ông Đỏ đến nhà ông Túy thôn Hạ Cát) | C49: Số 1316/QĐ-UBND ngày 05/12/2025 | D49: 6180.335 | E49: 3180 | F49: 2959.762 | H49: 2960 | J49: 2960 | K49: =J49 -> 2960 | O49: =K49-P49 -> 1208 | P49: 1752 | Q49: =P49 -> 1752
A50: 12 | B50: Cải tạo, nâng cấp đường GTNT xã Tống Phan (Tuyến 1, đoạn từ nhà ông Hoan đến nhà ông Doanh xóm cầu; Tuyến 2 đoạn từ nhà ông Viễn đến nhà ông Doanh xóm Dưới; Tuyến 3 đoạn từ nhà ông Dũng đến nhà bà Thảo Huyện) | C50: Số 1304/QĐ-UBND ngày 01/12/2025 | D50: 5372.345 | E50: 1872 | F50: 663 | H50: 663 | J50: 1541 | K50: =J50 -> 1541 | O50: =K50-P50 -> 8 | P50: 1533 | Q50: =P50 -> 1533
A51: 13 | B51: Cải tạo, nâng cấp đường GTNT thôn Tống Xá, xã Tống Phan (Đoạn quanh hồ Tống Xá) | C51: Số 189/QĐ-UBND ngày 05/5/2025 | D51: 7144 | E51: 3644 | J51: 50 | K51: =J51 -> 50 | O51: =K51-P51 -> 0 | P51: 50 | Q51: 50
A52: C | B52: CÔNG TRÌNH KHỞI CÔNG MỚI (các dự án khi đáp ứng đủ các điều kiện theo quy định) | D52: =D58+D66+D56 -> 270922.11 | E52: =E58+E66+E56 -> 267422.11 | F52: =F58+F66+F56 -> 3500 | G52: =G58+G66+G56 -> 0 | H52: =H58+H66+H56 -> 0 | I52: =I58+I66+I56 -> 0 | J52: =J58+J66+J56 -> 159285 | K52: =K58+K66+K56 -> 159285 | ... Q52: =Q58+Q66+Q56 -> 55119
A53: B | B53: CÔNG TRÌNH KHỞI CÔNG MỚI (các dự án khi đáp ứng đủ các điều kiện theo quy định) | D53: 277340.11 | E53: 273840.11 | F53: 0 | G53: 0 | H53: 0 | I53: 0 | J53: 159285.15 | K53: 159285.15 | M53: 0 | O53: 0 | P53: 159285.15 | Q53: 159285.15
A54: I | B54: Lĩnh vực văn hoá, thông tin | D54: 0 | E54: 0 | F54: 0 | G54: 0 | H54: 0 | I54: 0 | J54: 0 | K54: 0 | M54: 0 | O54: 0 | P54: 0 | Q54: 0
A56: I | B56: Lĩnh vực văn hoá | D56: =D57 -> 3531 | E56: =E57 -> 3531 | F56: =F57 -> 3500 | G56: =G57 -> 0 | H56: =H57 -> 0 | I56: =I57 -> 0 | J56: =J57 -> 0 | K56: =K57 -> 0 | ... M56: =M57 -> 1600 | P56: =P57 -> 1600 | Q56: =Q57 -> 1600
A57: 1 | B57: Kè giếng đình thôn Hạ Cát, xã Tống Phan | C57: Số 1053/QĐ-UBND ngày 15/4/2026 | D57: 3531 | E57: 3531 | F57: 3500 | M57: 1600 | P57: 1600 | Q57: 1600
A58: II | B58: Lĩnh vực môi trường | D58: =SUM(D59:D61) -> 15500 | E58: =SUM(E59:E61) -> 12000 | F58: =SUM(F59:F61) -> 0 | G58: =SUM(G59:G61) -> 0 | H58: =SUM(H59:H61) -> 0 | I58: =SUM(I59:I61) -> 0 | J58: =SUM(J59:J61) -> 9750 | K58: =SUM(K59:K61) -> 9750 | ... M58: =SUM(M59:M61) -> 0 | O58: =SUM(O59:O61) -> 5050 | P58: =SUM(P59:P61) -> 4700 | Q58: =SUM(Q59:Q61) -> 4700
A59: 1 | B59: Xây dựng hệ thống xử lý nước thải tập trung thôn Nghĩa Vũ, xã Quang Hưng | C59: Số 1440/QĐ-UBND ngày 19/6/2026 | D59: 4000 | E59: 2250 | J59: 2250 | K59: =J59 -> 2250 | O59: =K59-P59 -> 500 | P59: 1750 | Q59: 1750
A60: 2 | B60: Xây dựng hệ thống xử lý nước thải tập trung thôn Duyệt Văn, xã Quang Hưng | C60: Số 1441/QĐ-UBND ngày 19/6/2026 | D60: 4000 | E60: 2250 | J60: 2250 | K60: =J60 -> 2250 | O60: =K60-P60 -> 500 | P60: 1750 | Q60: 1750
A61: 3 | B61: Xây dựng điểm tập kết rác thải thôn Tống Xá, xã Quang Hưng | C61: Số 1442/QĐ-UBND ngày 19/6/2026 | D61: 7500 | E61: 7500 | J61: 5250 | K61: =J61 -> 5250 | O61: =K61-P61 -> 4050 | P61: 1200 | Q61: 1200
A62: III | B62: Bảo đảm xã hội | D62: 0 | E62: 0 | F62: 0 | G62: 0 | H62: 0 | I62: 0 | J62: 0 | K62: 0 | M62: 0 | O62: 0 | P62: 0 | Q62: 0
K63: 0 | Q63: 0
K64: 0 | Q64: 0
K65: 0 | Q65: 0
A66: III | B66: Các hoạt động kinh tế | D66: =D67+D83+D88 -> 251891.11 | E66: =E67+E83+E88 -> 251891.11 | F66: =F67+F83+F88 -> 0 | G66: =G67+G83+G88 -> 0 | H66: =H67+H83+H88 -> 0 | I66: =I67+I83+I88 -> 0 | J66: =J67+J83+J88 -> 149535 | K66: =K67+K83+K88 -> 149535 | ... M66: =M67+M83+M88 -> 0 | O66: =O67+O83+O88 -> 100716 | P66: =P67+P83+P88 -> 48819 | Q66: =Q67+Q83+Q88 -> 48819
B67: Giao thông | D67: =SUM(D68:D82) -> 185029 | E67: =SUM(E68:E82) -> 185029 | F67: =SUM(F68:F82) -> 0 | G67: =SUM(G68:G82) -> 0 | H67: =SUM(H68:H82) -> 0 | I67: =SUM(I68:I82) -> 0 | J67: =SUM(J68:J82) -> 91127 | K67: =SUM(K68:K82) -> 91127 | ... M67: =SUM(M68:M82) -> 0 | O67: =SUM(O68:O82) -> 55006 | P67: =SUM(P68:P82) -> 36121 | Q67: =SUM(Q68:Q82) -> 36121
A68: 1 | B68: Xây dựng cầu và đường từ QL.38B đến đường từ cụm công nghiệp Trần Cao - Quang Hưng đi ĐH.85 | C68: Số 1443/QĐ-UBND ngày 19/6/2026 | D68: 26777 | E68: 26777 | J68: 15757 | K68: =J68 -> 15757 | O68: =K68-P68 -> 7581 | P68: 8176 | Q68: =P68 -> 8176
A69: 2 | B69: Cải tạo, nâng cấp đường từ Ngã 6 Quán Bầu, xã Quang Hưng đến giáp xã Tiên Tiến | C69: Số 1444/QĐ-UBND ngày 19/6/2026 | D69: 19900 | E69: 19900 | J69: 8955 | K69: =J69 -> 8955 | O69: =K69-P69 -> 7755 | P69: 1200 | Q69: =P69 -> 1200
A70: 3 | B70: Cải tạo, nâng cấp đường GTNT xã Quang Hưng (đoạn từ Cầu Cốc thôn Phan Xá đến đường từ cụm công nghiệp Trần Cao -Quang Hưng đi ĐH.85) | C70: Số 1317/QĐ-UBND ngày 05/12/2025 | D70: 45000 | E70: 45000 | J70: 20250 | K70: =J70 -> 20250 | O70: =K70-P70 -> 13450 | P70: 6800 | Q70: =P70 -> 6800
A71: 4 | B71: Cải tạo, nâng cấp đường từ đường Hòa Bình đến nghĩa trang nhân dân thôn Cao Xá, xã Quang Hưng | C71: Số 1449/QĐ-UBND ngày 19/6/2026 | D71: 3800 | E71: 3800 | J71: 1710 | K71: =J71 -> 1710 | O71: =K71-P71 -> 0 | P71: 1710 | Q71: =P71 -> 1710
A72: 5 | B72: Cải tạo, nâng cấp các tuyến đường GTNT thôn Hạ Cát và thôn Cát Dương, xã Quang Hưng | C72: Số 1451/QĐ-UBND ngày 19/6/2026 | D72: 10000 | E72: 10000 | J72: 4500 | K72: =J72 -> 4500 | O72: =K72-P72 -> 1500 | P72: 3000 | Q72: 3000
A73: 6 | B73: Cải tạo, nâng cấp đường GTNT xã Quang Hưng: các ngõ đường Trần Thượng 1 (đoạn 1: ngõ số 8; đoạn 2: ngõ số 30 từ nhà ông Nhĩ đễn nhà bà Nơ; đoạn 3: ngõ 63 từ nhà ông Màng đền nhà ông Cùng), thôn Cao Xá (đoạn 1: từ nhà ông Hiệu đến nhà ông Đết, đoạn 2: từ nhà bà Hằng đến cổng nhà Mụ) | C73: Số 1452/QĐ-UBND ngày 19/6/2026 | D73: 4061 | E73: =D73 -> 4061 | J73: 2520 | K73: =J73 -> 2520 | O73: =K73-P73 -> 2520 | P73: 0 | Q73: 0
A74: 7 | B74: Cải tạo, nâng cấp đường GTNT xã Quang Hưng (thôn Trần Thượng: đoạn 1 từ trạm biến áp Trần Thượng 2 đi nhà bà Vũ Thị Sứ, đoạn 2 từ cây đa nhà ông Trần Duy Tần đến nghĩa trang thôn Trần Thượng; thôn Cao Xá: đoạn 1 từ nhà thờ Cao Xá đến nhà ông Quảng, đoạn 2 đường nội đồng khu mộ đôi từ nhà ông Phan Hữu Tân điểm cuối đường tránh khu công nghiệp; thôn Trần Hạ đoạn giáp đường trục thôn đi vườn nhà ông Thân) | C74: Số 1453/QĐ-UBND ngày 19/6/2026 | D74: 15220 | E74: 15220 | J74: 6849 | K74: =J74 -> 6849 | O74: =K74-P74 -> 2283 | P74: 4566 | Q74: =P74 -> 4566
A75: 8 | B75: Cải tạo, nâng cấp đường GTNT thôn Tống Xá, xã Quang Hưng (đoạn 1 từ nhà ông Tân đến nhà ông Thòa, đoạn 2 từ nhà ông Chối đến nhà ông Hía) | C75: Số 1454/QĐ-UBND ngày 19/6/2026 | D75: 4820 | E75: =D75 -> 4820 | J75: 2250 | K75: =J75 -> 2250 | O75: =K75-P75 -> 2250 | P75: 0 | Q75: 0
A76: 9 | B76: Kè đường giao thông thôn (Đoạn 1 từ nhà ông Điền đến nhà bà Khiên, thôn Hạ Cát; đoạn 2 từ nhà ông Uyên đến đầu đường Đình Cát Dương) | C76: Số 1455/QĐ-UBND ngày 19/6/2026 | D76: 8069 | E76: =D76 -> 8069 | J76: 4050 | K76: =J76 -> 4050 | O76: =K76-P76 -> 4050 | P76: 0 | Q76: 0
A77: 10 | B77: Cải tạo, nâng cấp đường GTNT xã Quang Hưng đoạn từ nhà ông Doanh đến đường ĐH.64 thôn Thọ Lão | C77: Số 1456/QĐ-UBND ngày 19/6/2026 | D77: 3100 | E77: 3100 | J77: 1395 | K77: =J77 -> 1395 | O77: =K77-P77 -> 0 | P77: 1395 | Q77: =P77 -> 1395
A78: 11 | B78: Cải tạo, nâng cấp đường GTNT xã Quang Hưng: thôn Nghĩa Vũ (đoạn 1: từ nhà ông Hùng đến cổng miếu; đoạn 2: từ nhà ông Toản đến nhà ông Xuyên; đoạn 3: từ nhà ông Ba đến nhà bà Ngăn), thôn Tần Tiến, xã Quang Hưng (đoạn 1: từ nhà bà Ánh đến cống 10 mẫu; đoạn 2: từ trường gốc gạo nhà bà Đạo), Thôn Duyệt Văn đoạn từ nhà ông Hoàng Lập đến nhà ông Chung | C78: Số 1457/QĐ-UBND ngày 19/6/2026 | D78: 17500 | E78: 17500 | J78: 7875 | K78: =J78 -> 7875 | O78: =K78-P78 -> 3991 | P78: =7875-3000+609-1600 -> 3884 | Q78: =P78 -> 3884
A79: 12 | B79: Cải tạo, nâng cấp đường nội đồng Thôn Nghĩa Vũ, xã Quang Hưng (đoạn 1: từ ruộng ông Tứ đến ruộng ông Mậu; đoạn 2: từ ruộng ông Chì đến ruộng ông Tỉnh; đoạn 3: từ ruộng ông Nghiệp đến cổng chùa; đoạn 4: từ ruộng ông Ao đến ruộng ông Đông), thôn Duyệt Văn (đoạn 1: từ nhà ông bà Mến Tân đến nhà ông Huân; đoạn 2: từ ruộng nhà bà Nga đến ruộng nhà ông Đắc; đoạn 3: từ ruộng ông Trung đến ruộng ông Tiên) | C79: Số 1458/QĐ-UBND ngày 19/6/2026 | D79: 17392 | E79: =D79 -> 17392 | J79: 8996 | K79: =J79 -> 8996 | O79: =K79-P79 -> 8996 | P79: 0 | Q79: 0
A80: 13 | B80: Cải tạo, nâng cấp đường GTNT xã Quang Hưng: đoạn 1 từ nhà ông Út đến nhà ông Quý, đoạn 2 từ nhà ông Diệm đến nhà ông Điền, đoạn 3 từ ruộng nhà ông Cất đến nhà Đệ Mai thôn Tần Tiến | C80: Số 1459/QĐ-UBND ngày 19/6/2026 | D80: 5461 | E80: =D80 -> 5461 | J80: 2835 | K80: =J80 -> 2835 | O80: =K80-P80 -> 630 | P80: 2205 | Q80: =P80 -> 2205
A81: 14 | B81: Xây dựng hệ thống thoát nước từ nhà ông Rộng đến nhà ông Đông thôn Trần Thượng, xã Quang Hưng | C81: Số 1460/QĐ-UBND ngày 19/6/2026 | D81: 2200 | E81: 2200 | J81: 1540 | K81: =J81 -> 1540 | O81: =K81-P81 -> 0 | P81: 1540 | Q81: 1540
A82: 15 | B82: Cải tạo, nâng cấp hệ thống tiêu thoát nước thôn Quang Xá, xã Quang Hưng (từ nhà bà Hồng đến hố ga chờ sau Trường THCS Quang Hưng) | C82: Số 1461/QĐ-UBND ngày 19/6/2026 | D82: 1729 | E82: =D82 -> 1729 | J82: 1645 | K82: =J82 -> 1645 | O82: 0 | P82: =K82 -> 1645 | Q82: =K82 -> 1645
B83: Hạ tầng kỹ thuật, kiến thiết thị chính | D83: =SUM(D84:D87) -> 66190 | E83: =SUM(E84:E87) -> 66190 | F83: =SUM(F84:F87) -> 0 | G83: =SUM(G84:G87) -> 0 | H83: =SUM(H84:H87) -> 0 | I83: =SUM(I84:I87) -> 0 | J83: =SUM(J84:J87) -> 57736 | K83: =SUM(K84:K87) -> 57736 | ... M83: =SUM(M84:M87) -> 0 | O83: =SUM(O84:O87) -> 45710 | P83: =SUM(P84:P87) -> 12026 | Q83: =SUM(Q84:Q87) -> 12026
A84: 1 | B84: Xây dựng hệ thống chiếu sáng đường ĐH.87 (đoạn từ nhà ông Hoàn thôn Trần Hạ đến chợ Tống Xá xã Quang Hưng) | C84: Số 1446/QĐ-UBND ngày 19/6/2026 | D84: 3262 | E84: =D84 -> 3262 | J84: 2376 | K84: 2376 | O84: =K84-P84 -> 0 | P84: 2376 | Q84: =P84 -> 2376
A85: 2 | B85: Xây dựng hệ thống điện chiếu sáng đường ĐH.64 (đoạn trên địa phận xã Quang Hưng) | C85: Số 1447/QĐ-UBND ngày 19/6/2026 | D85: 14994 | E85: =D85 -> 14994 | J85: 11160 | K85: 11160 | O85: =K85-P85 -> 6510 | P85: =4650 -> 4650 | Q85: =P85 -> 4650
A86: 3 | B86: Xây dựng hệ thống chiếu sáng đường ĐT.386 (đoạn từ KDC số 5 đến hết địa phận thôn Tần Tiến, xã Quang Hưng) | C86: Số 1448/QĐ-UBND ngày 19/6/2026 | D86: 17053 | E86: =D86 -> 17053 | J86: 13320 | K86: 13320 | O86: =K86-P86 -> 10320 | P86: 3000 | Q86: 3000
A87: 4 | B87: Cải tạo, nâng cấp vỉa hè đường QL.38B trên địa phận xã Quang Hưng, tỉnh Hưng Yên | C87: Số 1450/QĐ-UBND ngày 19/6/2026 | D87: 30881 | E87: 30881 | J87: 30880 | K87: =J87 -> 30880 | O87: =K87-P87 -> 28880 | P87: 2000 | Q87: 2000
B88: Lĩnh vực Quy hoạch | D88: 672.109 | E88: 672.109 | F88: 0 | G88: 0 | H88: 0 | I88: 0 | J88: 672 | K88: 672 | P88: 672 | Q88: 672
A89: 1 | B89: Quy hoạch chung xã Quang Hưng, tỉnh Hưng Yên giai đoạn đến năm 2050 | C89: Số 1218/QĐ-UBND ngày 13/5/2026 | D89: 672.109 | E89: 672.109 | J89: 672 | K89: 672 | P89: 672 | Q89: 672
A90: D | B90: DỰ PHÒNG | J90: 50335 | K90: 50335 | O90: =K90-P90 -> 50335
